BEGIN:VCALENDAR
VERSION:2.0
PRODID:-//GBEC - ECPv6.15.20//NONSGML v1.0//EN
CALSCALE:GREGORIAN
METHOD:PUBLISH
X-WR-CALNAME:GBEC
X-ORIGINAL-URL:https://gbec.church
X-WR-CALDESC:Events for GBEC
REFRESH-INTERVAL;VALUE=DURATION:PT1H
X-Robots-Tag:noindex
X-PUBLISHED-TTL:PT1H
BEGIN:VTIMEZONE
TZID:America/New_York
BEGIN:DAYLIGHT
TZOFFSETFROM:-0500
TZOFFSETTO:-0400
TZNAME:EDT
DTSTART:20220313T070000
END:DAYLIGHT
BEGIN:STANDARD
TZOFFSETFROM:-0400
TZOFFSETTO:-0500
TZNAME:EST
DTSTART:20221106T060000
END:STANDARD
BEGIN:DAYLIGHT
TZOFFSETFROM:-0500
TZOFFSETTO:-0400
TZNAME:EDT
DTSTART:20230312T070000
END:DAYLIGHT
BEGIN:STANDARD
TZOFFSETFROM:-0400
TZOFFSETTO:-0500
TZNAME:EST
DTSTART:20231105T060000
END:STANDARD
BEGIN:DAYLIGHT
TZOFFSETFROM:-0500
TZOFFSETTO:-0400
TZNAME:EDT
DTSTART:20240310T070000
END:DAYLIGHT
BEGIN:STANDARD
TZOFFSETFROM:-0400
TZOFFSETTO:-0500
TZNAME:EST
DTSTART:20241103T060000
END:STANDARD
BEGIN:DAYLIGHT
TZOFFSETFROM:-0500
TZOFFSETTO:-0400
TZNAME:EDT
DTSTART:20250309T070000
END:DAYLIGHT
BEGIN:STANDARD
TZOFFSETFROM:-0400
TZOFFSETTO:-0500
TZNAME:EST
DTSTART:20251102T060000
END:STANDARD
END:VTIMEZONE
BEGIN:VEVENT
DTSTART;TZID=America/New_York:20240427T150000
DTEND;TZID=America/New_York:20240427T190000
DTSTAMP:20260423T142837
CREATED:20240305T161824Z
LAST-MODIFIED:20240305T161826Z
UID:23179-1714230000-1714244400@gbec.church
SUMMARY:ልዩ ዝግጅት
DESCRIPTION:Join us for a Special Conference \n\n\n\n Date: April 27\, 2024\n Time: 3:00 PM\n\n\n\n Sermon by Dr. Pastor Hanfre Aligaz\n Singer Awtaru Kebede\n\n\nWe will have:\n\n Ordination Ceremony\n Baptism Service\n Appreciation\n 2nd Year Anniversary\n\n\n Location: 20430 Ashburn Village Blvd\, Ashburn\, VA 20147
URL:https://gbec.church/event/%e1%88%8d%e1%8b%a9-%e1%8b%9d%e1%8c%8d%e1%8c%85%e1%89%b5/
LOCATION:Capital Community Church\, 20430 Ashburn Village Blvd\, Ashburn\, Virginia\, 20147
CATEGORIES:Main
ATTACH;FMTTYPE=image/png:https://gbec.church/wp-content/uploads/2024/03/Apri-Conference-LANDSCAPE@2x.png
END:VEVENT
BEGIN:VEVENT
DTSTART;TZID=America/New_York:20240331T103000
DTEND;TZID=America/New_York:20240331T123000
DTSTAMP:20260423T142837
CREATED:20240305T161511Z
LAST-MODIFIED:20240305T161850Z
UID:23177-1711881000-1711888200@gbec.church
SUMMARY:Family Conference
DESCRIPTION:  \n\nJoin us for our upcoming Conference focusing on FAMILY! \n\n\n\n Save the Date: March 29\, 30\, 31\n Time: Fri\, Sat 7:30 – 10:00 PM\, Sun 10:30 PM – 12:30 PM\n Location: GBEC – 1402 Shepard Dr. Sterling\, VA 20164\n\n\n Guest Speaker: Pastor Amelu Geta from Ethiopia
URL:https://gbec.church/event/family-conference-3/
LOCATION:Gospel Believers Ethiopian Church\, 1402 Shepard Dr.\, Sterling\, 20164\, United States
CATEGORIES:Main
ATTACH;FMTTYPE=image/png:https://gbec.church/wp-content/uploads/2024/03/March-ConferenceLANDSCAPE@2x.png
END:VEVENT
BEGIN:VEVENT
DTSTART;TZID=America/New_York:20240330T193000
DTEND;TZID=America/New_York:20240330T220000
DTSTAMP:20260423T142837
CREATED:20240305T161425Z
LAST-MODIFIED:20240305T161853Z
UID:23175-1711827000-1711836000@gbec.church
SUMMARY:Family Conference
DESCRIPTION:Join us for our upcoming Conference focusing on FAMILY! \n\n\n\n Save the Date: March 29\, 30\, 31\n Time: Fri\, Sat 7:30 – 10:00 PM\, Sun 10:30 PM – 12:30 PM\n Location: GBEC – 1402 Shepard Dr. Sterling\, VA 20164\n\n\n Guest Speaker: Pastor Amelu Geta from Ethiopia
URL:https://gbec.church/event/family-conference-2/
LOCATION:Gospel Believers Ethiopian Church\, 1402 Shepard Dr.\, Sterling\, 20164\, United States
CATEGORIES:Main
ATTACH;FMTTYPE=image/png:https://gbec.church/wp-content/uploads/2024/03/March-ConferenceLANDSCAPE@2x.png
END:VEVENT
BEGIN:VEVENT
DTSTART;TZID=America/New_York:20240329T193000
DTEND;TZID=America/New_York:20240329T220000
DTSTAMP:20260423T142837
CREATED:20240305T161341Z
LAST-MODIFIED:20240305T161854Z
UID:23172-1711740600-1711749600@gbec.church
SUMMARY:Family Conference
DESCRIPTION:Join us for our upcoming Conference focusing on FAMILY! \n\n\n\n Save the Date: March 29\, 30\, 31\n Time: Fri\, Sat 7:30 – 10:00 PM\, Sun 10:30 PM – 12:30 PM\n Location: GBEC – 1402 Shepard Dr. Sterling\, VA 20164\n\n\n Guest Speaker: Pastor Amelu Geta from Ethiopia
URL:https://gbec.church/event/family-conference/
LOCATION:Gospel Believers Ethiopian Church\, 1402 Shepard Dr.\, Sterling\, 20164\, United States
CATEGORIES:Main
ATTACH;FMTTYPE=image/png:https://gbec.church/wp-content/uploads/2024/03/March-ConferenceLANDSCAPE@2x.png
END:VEVENT
BEGIN:VEVENT
DTSTART;TZID=America/New_York:20231231T200000
DTEND;TZID=America/New_York:20240101T010000
DTSTAMP:20260423T142837
CREATED:20231127T181434Z
LAST-MODIFIED:20231127T202251Z
UID:23166-1704052800-1704070800@gbec.church
SUMMARY:New Year's Eve
DESCRIPTION:Join us for our New Year’s Eve service as we look back at the blessings of the past year and welcome the new year together. The evening will be filled with worship with Singer Mihret Itefa\, sermon by Pastor Tesfai Tessema. We will light candles to usher in the new year together and we fellowship in sharing food after the service. \nThe service will be held at Capital Community Church in Ashburn\, VA on December 31\, starting at 8:00 PM.
URL:https://gbec.church/event/new-years-eve/
LOCATION:Capital Community Church\, 20430 Ashburn Village Blvd\, Ashburn\, Virginia\, 20147
CATEGORIES:Main
ATTACH;FMTTYPE=image/png:https://gbec.church/wp-content/uploads/2023/11/NYE.png
END:VEVENT
BEGIN:VEVENT
DTSTART;TZID=America/New_York:20231228T200000
DTEND;TZID=America/New_York:20231230T220000
DTSTAMP:20260423T142837
CREATED:20231127T180048Z
LAST-MODIFIED:20231127T202325Z
UID:23162-1703793600-1703973600@gbec.church
SUMMARY:New Year's Conference
DESCRIPTION:Join us for a New Year’s Conference at Gospel Believers Ethiopian Church for a night of worship and teaching with guest singer Mihret Itefa and Pastor Tesfai Tessema. \nDecember 28\, 29\, 30\, from 8:00 PM to 10:00 PM
URL:https://gbec.church/event/new-years-conference/
LOCATION:Gospel Believers Ethiopian Church\, 1402 Shepard Dr.\, Sterling\, 20164\, United States
CATEGORIES:Main
ATTACH;FMTTYPE=image/png:https://gbec.church/wp-content/uploads/2023/11/NYE-CONFERENCE.png
END:VEVENT
BEGIN:VEVENT
DTSTART;TZID=America/New_York:20230903T103000
DTEND;TZID=America/New_York:20230903T123000
DTSTAMP:20260423T142837
CREATED:20230710T232640Z
LAST-MODIFIED:20230710T232640Z
UID:23122-1693737000-1693744200@gbec.church
SUMMARY:Evangelism Conference
DESCRIPTION:Join us for an Evangelism Conference\, where we will come together to learn\, grow\, and explore effective strategies for sharing the gospel of Jesus Christ. We will have guest speaker Zekarias Belay from Israel as well as a time of worship with guest singers Solomon Ababu and Dawit Teshome. This conference is open to all individuals who desire to grow in their understanding and practice of evangelism and we hope to see you there!
URL:https://gbec.church/event/evangelism-conference/
LOCATION:Gospel Believers Ethiopian Church\, 1402 Shepard Dr.\, Sterling\, 20164\, United States
CATEGORIES:Main
ATTACH;FMTTYPE=image/png:https://gbec.church/wp-content/uploads/2023/07/Evangelism-Conference.png
END:VEVENT
BEGIN:VEVENT
DTSTART;TZID=America/New_York:20230902T193000
DTEND;TZID=America/New_York:20230902T220000
DTSTAMP:20260423T142837
CREATED:20230710T232642Z
LAST-MODIFIED:20230710T232642Z
UID:23119-1693683000-1693692000@gbec.church
SUMMARY:Evangelism Conference
DESCRIPTION:Join us for an Evangelism Conference\, where we will come together to learn\, grow\, and explore effective strategies for sharing the gospel of Jesus Christ. We will have guest speaker Zekarias Belay from Israel as well as a time of worship with guest singers Solomon Ababu and Dawit Teshome. This conference is open to all individuals who desire to grow in their understanding and practice of evangelism and we hope to see you there!
URL:https://gbec.church/event/evangelism-conference-2/
LOCATION:Gospel Believers Ethiopian Church\, 1402 Shepard Dr.\, Sterling\, 20164\, United States
CATEGORIES:Main
ATTACH;FMTTYPE=image/png:https://gbec.church/wp-content/uploads/2023/07/Evangelism-Conference.png
END:VEVENT
BEGIN:VEVENT
DTSTART;TZID=America/New_York:20230901T193000
DTEND;TZID=America/New_York:20230901T220000
DTSTAMP:20260423T142837
CREATED:20230710T232643Z
LAST-MODIFIED:20230710T232643Z
UID:23117-1693596600-1693605600@gbec.church
SUMMARY:Evangelism Conference
DESCRIPTION:Join us for an Evangelism Conference\, where we will come together to learn\, grow\, and explore effective strategies for sharing the gospel of Jesus Christ. We will have guest speaker Zekarias Belay from Israel as well as a time of worship with guest singers Solomon Ababu and Dawit Teshome. This conference is open to all individuals who desire to grow in their understanding and practice of evangelism and we hope to see you there!
URL:https://gbec.church/event/evangelism-conference-3/
LOCATION:Gospel Believers Ethiopian Church\, 1402 Shepard Dr.\, Sterling\, 20164\, United States
CATEGORIES:Main
ATTACH;FMTTYPE=image/png:https://gbec.church/wp-content/uploads/2023/07/Evangelism-Conference.png
END:VEVENT
BEGIN:VEVENT
DTSTART;TZID=America/New_York:20230831T193000
DTEND;TZID=America/New_York:20230831T220000
DTSTAMP:20260423T142837
CREATED:20230710T232644Z
LAST-MODIFIED:20230710T232644Z
UID:23112-1693510200-1693519200@gbec.church
SUMMARY:Evangelism Conference
DESCRIPTION:Join us for an Evangelism Conference\, where we will come together to learn\, grow\, and explore effective strategies for sharing the gospel of Jesus Christ. We will have guest speaker Zekarias Belay from Israel as well as a time of worship with guest singers Solomon Ababu and Dawit Teshome. This conference is open to all individuals who desire to grow in their understanding and practice of evangelism and we hope to see you there!
URL:https://gbec.church/event/evangelism-conference-4/
LOCATION:Gospel Believers Ethiopian Church\, 1402 Shepard Dr.\, Sterling\, 20164\, United States
CATEGORIES:Main
ATTACH;FMTTYPE=image/png:https://gbec.church/wp-content/uploads/2023/07/Evangelism-Conference.png
END:VEVENT
END:VCALENDAR